BEGIN:VCALENDAR
VERSION:2.0
PRODID:-//The Animal Foundation - ECPv6.15.20//NONSGML v1.0//EN
CALSCALE:GREGORIAN
METHOD:PUBLISH
X-ORIGINAL-URL:https://animalfoundation.com
X-WR-CALDESC:Events for The Animal Foundation
REFRESH-INTERVAL;VALUE=DURATION:PT1H
X-Robots-Tag:noindex
X-PUBLISHED-TTL:PT1H
BEGIN:VTIMEZONE
TZID:UTC
BEGIN:STANDARD
TZOFFSETFROM:+0000
TZOFFSETTO:+0000
TZNAME:UTC
DTSTART:20250101T000000
END:STANDARD
END:VTIMEZONE
BEGIN:VEVENT
DTSTART;TZID=UTC:20260328T100000
DTEND;TZID=UTC:20260328T140000
DTSTAMP:20260424T031838
CREATED:20260306T051707Z
LAST-MODIFIED:20260306T051707Z
UID:10000061-1774692000-1774706400@animalfoundation.com
SUMMARY:Paws on the Plaza
DESCRIPTION:Get ready for a tail-wagging good time in the heart of downtown Las Vegas! Join The Animal Foundation and Mayor Shelley Berkley for Paws on the Plaza\, a community adoption event celebrating pets\, people\, and the joy of finding your new best friend. \nWe’ll be bringing some of our adorable adoptable dogs to City Hall in hopes of helping them meet their future families. Whether you’re looking to adopt\, show off your pup’s costume skills\, or just enjoy a fun morning with fellow animal lovers\, there’s something for everyone. \nWhat to Expect\n🐶 Adoptable dogs from The Animal Foundation looking for loving homes\n 🎉 Family-friendly festivities on the City Hall Plaza\n 🌭 Food and refreshments available\n 🎭 Costume Puppy Parade Contest — dress your pup in their best outfit and join the fun!\n 🤝 Animal support services and community resources from APS \nPuppy Costume Parade\nThink your dog has star power? Bring them dressed in their most creative\, cute\, or hilarious costume and join the Puppy Costume Parade Contest! It’s the perfect chance for your pup to strut their stuff and soak up the spotlight. \nCome say hello\, meet some amazing dogs\, and celebrate the pets who make our community brighter. We hope to see you there!
URL:https://animalfoundation.com/event/paws-on-the-plaza/
LOCATION:Las Vegas City Hall Plaza\, 525 S Main St\, Las Vegas\, NV\, 89101\, United States
ATTACH;FMTTYPE=image/png:https://animalfoundation.com/wp-content/uploads/2026/03/Paws-on-the-Plaza-Event-Header.png
END:VEVENT
END:VCALENDAR