BEGIN:VCALENDAR
VERSION:2.0
PRODID:-//The Animal Foundation - ECPv6.15.20//NONSGML v1.0//EN
CALSCALE:GREGORIAN
METHOD:PUBLISH
X-WR-CALNAME:The Animal Foundation
X-ORIGINAL-URL:https://animalfoundation.com
X-WR-CALDESC:Events for The Animal Foundation
REFRESH-INTERVAL;VALUE=DURATION:PT1H
X-Robots-Tag:noindex
X-PUBLISHED-TTL:PT1H
BEGIN:VTIMEZONE
TZID:America/Denver
BEGIN:DAYLIGHT
TZOFFSETFROM:-0700
TZOFFSETTO:-0600
TZNAME:MDT
DTSTART:20250309T090000
END:DAYLIGHT
BEGIN:STANDARD
TZOFFSETFROM:-0600
TZOFFSETTO:-0700
TZNAME:MST
DTSTART:20251102T080000
END:STANDARD
BEGIN:DAYLIGHT
TZOFFSETFROM:-0700
TZOFFSETTO:-0600
TZNAME:MDT
DTSTART:20260308T090000
END:DAYLIGHT
BEGIN:STANDARD
TZOFFSETFROM:-0600
TZOFFSETTO:-0700
TZNAME:MST
DTSTART:20261101T080000
END:STANDARD
BEGIN:DAYLIGHT
TZOFFSETFROM:-0700
TZOFFSETTO:-0600
TZNAME:MDT
DTSTART:20270314T090000
END:DAYLIGHT
BEGIN:STANDARD
TZOFFSETFROM:-0600
TZOFFSETTO:-0700
TZNAME:MST
DTSTART:20271107T080000
END:STANDARD
END:VTIMEZONE
BEGIN:VEVENT
DTSTART;TZID=America/Denver:20260408T131500
DTEND;TZID=America/Denver:20260408T144500
DTSTAMP:20260422T020949
CREATED:20260401T085911Z
LAST-MODIFIED:20260401T090043Z
UID:10000064-1775654100-1775659500@animalfoundation.com
SUMMARY:Kitten Foster Training: Learn to Save the Tiniest Lives
DESCRIPTION:Tiny kittens need big heroes—and that could be you. \nJoin us for a hands-on kitten foster training where you’ll learn how to care for neonate kittens (aka the most fragile\, bottle-baby\, “I fit in your palm” kind of cute). Whether you’re brand new or just need a refresher\, this session will give you the skills and confidence to step in when these little ones need it most. \nBecause when it comes to kitten season… every hour matters. \nWhat You’ll Learn\n🐱 How to safely care for neonate kittens🍼 Bottle feeding basics (yes\, you’ll get hands-on practice!)🌡️ Keeping kittens warm\, clean\, and thriving💡 What to watch for + when to ask for help \nWho Should Attend\n🐾 Anyone interested in fostering kittens🐾 Current volunteers who want a refresher🐾 Brand new volunteers ready to jump in \nNo experience needed—just a willingness to learn (and maybe fall in love a little). \nImportant Details\n🐾 Only 10 spots available per session to ensure hands-on learning🐾 First come\, first served—these will fill fast!🐾 Can’t make these dates? Don’t worry—more sessions are coming soon \nSave a life (or a few)\nReady to get started? \n👉 Click Here to Register! \nWhy This Matters\nEvery year\, thousands of vulnerable kittens come through our doors—many too young to survive without specialized care. \nBy becoming a trained kitten foster\, you’re giving them a chance they wouldn’t have otherwise.
URL:https://animalfoundation.com/event/kitten-foster-training-learn-to-save-the-tiniest-lives/2026-04-08/
LOCATION:The Animal Foundation\, 655 N Mojave Rd.\, Las Vegas\, NV\, 89101\, United States
ATTACH;FMTTYPE=image/png:https://animalfoundation.com/wp-content/uploads/2026/04/Kitten-Foster-Training-Event-Header.png
END:VEVENT
END:VCALENDAR